BEGIN:VCALENDAR
VERSION:2.0
PRODID:-//Südclub - ECPv6.15.20//NONSGML v1.0//EN
CALSCALE:GREGORIAN
METHOD:PUBLISH
X-WR-CALNAME:Südclub
X-ORIGINAL-URL:https://www.suedclub.de
X-WR-CALDESC:Veranstaltungen für Südclub
REFRESH-INTERVAL;VALUE=DURATION:PT1H
X-Robots-Tag:noindex
X-PUBLISHED-TTL:PT1H
BEGIN:VTIMEZONE
TZID:UTC
BEGIN:STANDARD
TZOFFSETFROM:+0000
TZOFFSETTO:+0000
TZNAME:UTC
DTSTART:20250101T000000
END:STANDARD
END:VTIMEZONE
BEGIN:VTIMEZONE
TZID:Europe/Berlin
BEGIN:DAYLIGHT
TZOFFSETFROM:+0100
TZOFFSETTO:+0200
TZNAME:CEST
DTSTART:20250330T010000
END:DAYLIGHT
BEGIN:STANDARD
TZOFFSETFROM:+0200
TZOFFSETTO:+0100
TZNAME:CET
DTSTART:20251026T010000
END:STANDARD
BEGIN:DAYLIGHT
TZOFFSETFROM:+0100
TZOFFSETTO:+0200
TZNAME:CEST
DTSTART:20260329T010000
END:DAYLIGHT
BEGIN:STANDARD
TZOFFSETFROM:+0200
TZOFFSETTO:+0100
TZNAME:CET
DTSTART:20261025T010000
END:STANDARD
BEGIN:DAYLIGHT
TZOFFSETFROM:+0100
TZOFFSETTO:+0200
TZNAME:CEST
DTSTART:20270328T010000
END:DAYLIGHT
BEGIN:STANDARD
TZOFFSETFROM:+0200
TZOFFSETTO:+0100
TZNAME:CET
DTSTART:20271031T010000
END:STANDARD
END:VTIMEZONE
BEGIN:VEVENT
DTSTART;TZID=UTC:20260418T170000
DTEND;TZID=UTC:20260418T220000
DTSTAMP:20260419T211842
CREATED:20260413T135448Z
LAST-MODIFIED:20260413T135448Z
UID:850-1776531600-1776549600@www.suedclub.de
SUMMARY:Jugenddisco Come Over Tonight Vol.5 (Parkclub)
DESCRIPTION:Wir sind vor Ort.Mobile Jugendarbeit und Südclub Fürstenwalde
URL:https://www.suedclub.de/event/jugenddisco-come-over-tonight-vol-5-parkclub/
END:VEVENT
BEGIN:VEVENT
DTSTART;TZID=UTC:20260407T120000
DTEND;TZID=UTC:20260410T180000
DTSTAMP:20260419T211842
CREATED:20230416T163847Z
LAST-MODIFIED:20260327T113942Z
UID:299-1775563200-1775844000@www.suedclub.de
SUMMARY:2.Osterferienwoche Offener Ferientreff
DESCRIPTION:  \n \n2. Osterfereinwoche \nOffener Ferientreff \n12.00 Uhr bis 18.00 Uhr \nohne Anmedung \n  \n  \n 
URL:https://www.suedclub.de/event/jgl-woche-ab-13-jahre-mit-anmeldung-osterferien/
END:VEVENT
BEGIN:VEVENT
DTSTART;VALUE=DATE:20260330
DTEND;VALUE=DATE:20260403
DTSTAMP:20260419T211842
CREATED:20230309T092719Z
LAST-MODIFIED:20260309T104145Z
UID:90-1774828800-1775174399@www.suedclub.de
SUMMARY:Bauspielplatzwoche Osterferien
DESCRIPTION:30.03.26 bis 02.04.26 \n9.00 Uhr bis 15.00 Uhr \nohne Anmeldung ab 8 Jahre \nBauen auf dem Bauspielplatz \nGemeinsames Mittagessen \nBitte 2\,50 Euro mit Einpacken
URL:https://www.suedclub.de/event/bauspielplatzwoche-osterferien/
END:VEVENT
BEGIN:VEVENT
DTSTART;VALUE=DATE:20260306
DTEND;VALUE=DATE:20260309
DTSTAMP:20260419T211842
CREATED:20250113T115953Z
LAST-MODIFIED:20260106T132616Z
UID:586-1772755200-1773014399@www.suedclub.de
SUMMARY:Mädchenwochenende 3/4 Klassen
DESCRIPTION:
URL:https://www.suedclub.de/event/maedchenwochenende-3-4-klassen/
END:VEVENT
BEGIN:VEVENT
DTSTART;VALUE=DATE:20260227
DTEND;VALUE=DATE:20260301
DTSTAMP:20260419T211842
CREATED:20230416T162900Z
LAST-MODIFIED:20260106T135015Z
UID:277-1772150400-1772323199@www.suedclub.de
SUMMARY:Jungenübernachtung 5/6 Klassen Nachholtermin von 2025
DESCRIPTION:Mit Anmeldung
URL:https://www.suedclub.de/event/jungen-wochenende/
END:VEVENT
BEGIN:VEVENT
DTSTART;TZID=UTC:20260217T120000
DTEND;TZID=UTC:20260217T180000
DTSTAMP:20260419T211842
CREATED:20260210T141824Z
LAST-MODIFIED:20260210T141824Z
UID:818-1771329600-1771351200@www.suedclub.de
SUMMARY:Halli Galli Fasching im Südclub
DESCRIPTION:Ab 8 Jahre/Ein Kostüm wäre nett
URL:https://www.suedclub.de/event/halli-galli-fasching-im-suedclub/
END:VEVENT
BEGIN:VEVENT
DTSTART;VALUE=DATE:20260202
DTEND;VALUE=DATE:20260207
DTSTAMP:20260419T211842
CREATED:20240108T092222Z
LAST-MODIFIED:20260106T131539Z
UID:495-1769990400-1770422399@www.suedclub.de
SUMMARY:Offener Ferientreff Winterferien
DESCRIPTION:Offener Ferientreff \n9.00 Uhr bis 15.00 Uhr \nMit Cindy \n 
URL:https://www.suedclub.de/event/offener-ferientreff-winterferien/
END:VEVENT
BEGIN:VEVENT
DTSTART;TZID=UTC:20260108T120000
DTEND;TZID=UTC:20260108T180000
DTSTAMP:20260419T211842
CREATED:20241219T092639Z
LAST-MODIFIED:20251222T105448Z
UID:573-1767873600-1767895200@www.suedclub.de
SUMMARY:Erster Offener Treff 2026
DESCRIPTION:
URL:https://www.suedclub.de/event/erster-offener-treff-2026/
END:VEVENT
END:VCALENDAR